BEGIN:VCALENDAR
VERSION:2.0
PRODID:-//DAV Neuland - ECPv6.15.20//NONSGML v1.0//EN
CALSCALE:GREGORIAN
METHOD:PUBLISH
X-WR-CALNAME:DAV Neuland
X-ORIGINAL-URL:https://www.dav-neuland.de
X-WR-CALDESC:Veranstaltungen für DAV Neuland
REFRESH-INTERVAL;VALUE=DURATION:PT1H
X-Robots-Tag:noindex
X-PUBLISHED-TTL:PT1H
BEGIN:VTIMEZONE
TZID:Europe/Berlin
BEGIN:DAYLIGHT
TZOFFSETFROM:+0100
TZOFFSETTO:+0200
TZNAME:CEST
DTSTART:20250330T010000
END:DAYLIGHT
BEGIN:STANDARD
TZOFFSETFROM:+0200
TZOFFSETTO:+0100
TZNAME:CET
DTSTART:20251026T010000
END:STANDARD
BEGIN:DAYLIGHT
TZOFFSETFROM:+0100
TZOFFSETTO:+0200
TZNAME:CEST
DTSTART:20260329T010000
END:DAYLIGHT
BEGIN:STANDARD
TZOFFSETFROM:+0200
TZOFFSETTO:+0100
TZNAME:CET
DTSTART:20261025T010000
END:STANDARD
BEGIN:DAYLIGHT
TZOFFSETFROM:+0100
TZOFFSETTO:+0200
TZNAME:CEST
DTSTART:20270328T010000
END:DAYLIGHT
BEGIN:STANDARD
TZOFFSETFROM:+0200
TZOFFSETTO:+0100
TZNAME:CET
DTSTART:20271031T010000
END:STANDARD
END:VTIMEZONE
BEGIN:VEVENT
DTSTART;VALUE=DATE:20260411
DTEND;VALUE=DATE:20260420
DTSTAMP:20260420T102329
CREATED:20251210T172448Z
LAST-MODIFIED:20251210T172448Z
UID:24981-1775865600-1776643199@www.dav-neuland.de
SUMMARY:Skihochtouren
DESCRIPTION:anspruchsvolle Skihochtouren; 5 bis 6 Tage im angegebenen Zeitfenster; z.B. Durchquerung Berninagruppe (Coazhütte; Marinellihütte; Bovalhütte) oder Durchquerung Venedigergruppe
URL:https://www.dav-neuland.de/event/skihochtouren-2/
CATEGORIES:Skitour
ORGANIZER;CN="Martin Meindl":MAILTO:martin.meindl@dav-neuland.de
END:VEVENT
BEGIN:VEVENT
DTSTART;VALUE=DATE:20260418
DTEND;VALUE=DATE:20260419
DTSTAMP:20260420T102329
CREATED:20260129T104920Z
LAST-MODIFIED:20260129T104920Z
UID:25280-1776470400-1776556799@www.dav-neuland.de
SUMMARY:Tourentermin Alpensalamander April 2026
DESCRIPTION:Ziel ist unbekannt. Tour wird vorab ausgeschrieben.
URL:https://www.dav-neuland.de/event/tourentermin-alpensalamander-april-2026/
END:VEVENT
BEGIN:VEVENT
DTSTART;VALUE=DATE:20260418
DTEND;VALUE=DATE:20260419
DTSTAMP:20260420T102329
CREATED:20251210T172511Z
LAST-MODIFIED:20251210T172511Z
UID:24985-1776470400-1776556799@www.dav-neuland.de
SUMMARY:Jugendklettern der Monkeys
DESCRIPTION:
URL:https://www.dav-neuland.de/event/jugendklettern-der-monkeys-3/
CATEGORIES:Jugend
END:VEVENT
BEGIN:VEVENT
DTSTART;VALUE=DATE:20260418
DTEND;VALUE=DATE:20260419
DTSTAMP:20260420T102329
CREATED:20251210T172511Z
LAST-MODIFIED:20251210T172511Z
UID:24986-1776470400-1776556799@www.dav-neuland.de
SUMMARY:Kraxlkids
DESCRIPTION:
URL:https://www.dav-neuland.de/event/kraxlkids-4/
CATEGORIES:Familien
ORGANIZER;CN="Sebastian Rauscher":MAILTO:sebastian.rauscher@dav-neuland.de
END:VEVENT
BEGIN:VEVENT
DTSTART;VALUE=DATE:20260418
DTEND;VALUE=DATE:20260419
DTSTAMP:20260420T102329
CREATED:20251210T172512Z
LAST-MODIFIED:20251210T172512Z
UID:24987-1776470400-1776556799@www.dav-neuland.de
SUMMARY:Der schönste Aussichtsberg der Welt \,-)
DESCRIPTION:
URL:https://www.dav-neuland.de/event/der-schoenste-aussichtsberg-der-welt/
CATEGORIES:Kinder
END:VEVENT
BEGIN:VEVENT
DTSTART;VALUE=DATE:20260418
DTEND;VALUE=DATE:20260420
DTSTAMP:20260420T102329
CREATED:20251210T172510Z
LAST-MODIFIED:20251210T172510Z
UID:24984-1776470400-1776643199@www.dav-neuland.de
SUMMARY:Neulandhütte
DESCRIPTION:
URL:https://www.dav-neuland.de/event/neulandhuette-5/
CATEGORIES:Familien
ORGANIZER;CN="Vanessa Schanz":MAILTO:vanessa.schanz@dav-neuland.de
END:VEVENT
BEGIN:VEVENT
DTSTART;TZID=Europe/Berlin:20260418T080000
DTEND;TZID=Europe/Berlin:20260418T130000
DTSTAMP:20260420T102329
CREATED:20260326T141510Z
LAST-MODIFIED:20260326T142627Z
UID:25752-1776499200-1776517200@www.dav-neuland.de
SUMMARY:Ramadama Stadt Penzberg
DESCRIPTION:Ansprechpartner für Jugend & Allgemein: Ramona Fiehne \nAnsprechpartner für Bergkatzen & Schneewölfe: Arthur Fiehne
URL:https://www.dav-neuland.de/event/ramadama-stadt-penzberg/
CATEGORIES:Allgemein,Jugend
ORGANIZER;CN="Ramona Fiehne":MAILTO:ramona.fiehne@dav-neuland.de
END:VEVENT
BEGIN:VEVENT
DTSTART;TZID=Europe/Berlin:20260418T190000
DTEND;TZID=Europe/Berlin:20260418T203000
DTSTAMP:20260420T102329
CREATED:20251210T172449Z
LAST-MODIFIED:20260119T115039Z
UID:24983-1776538800-1776544200@www.dav-neuland.de
SUMMARY:Vortrag Bernd Ritschel
DESCRIPTION:
URL:https://www.dav-neuland.de/event/vortrag-bernd-ritschel/
LOCATION:Stadthalle Penzberg
CATEGORIES:Allgemein
ORGANIZER;CN="Alfred Sommer":MAILTO:alfred.sommer@dav-neuland.de
END:VEVENT
END:VCALENDAR